BEGIN:VCALENDAR
VERSION:2.0
PRODID:-//Rhema Gospel Church - ECPv6.15.20//NONSGML v1.0//EN
CALSCALE:GREGORIAN
METHOD:PUBLISH
X-WR-CALNAME:Rhema Gospel Church
X-ORIGINAL-URL:https://rhemagospelchurch.org
X-WR-CALDESC:Events for Rhema Gospel Church
REFRESH-INTERVAL;VALUE=DURATION:PT1H
X-Robots-Tag:noindex
X-PUBLISHED-TTL:PT1H
BEGIN:VTIMEZONE
TZID:UTC
BEGIN:STANDARD
TZOFFSETFROM:+0000
TZOFFSETTO:+0000
TZNAME:UTC
DTSTART:20240101T000000
END:STANDARD
END:VTIMEZONE
BEGIN:VEVENT
DTSTART;VALUE=DATE:20250413
DTEND;VALUE=DATE:20250414
DTSTAMP:20260419T171016
CREATED:20250306T182100Z
LAST-MODIFIED:20250306T182100Z
UID:635-1744502400-1744588799@rhemagospelchurch.org
SUMMARY:Rhema Baptism
DESCRIPTION:
URL:https://rhemagospelchurch.org/event/rhema-baptism/
CATEGORIES:Baptism
ATTACH;FMTTYPE=image/jpeg:https://rhemagospelchurch.org/wp-content/uploads/2024/02/WhatsApp-Image-2024-01-25-at-12.34.14.jpeg
END:VEVENT
END:VCALENDAR